BEGIN:VCALENDAR
VERSION:2.0
PRODID:SchoolNow
CALSCALE:GREGORIAN
BEGIN:VEVENT
UID:4cec5920-9f11-11f0-96e0-0a58a9feac02
DTSTAMP:20251216T200041Z
SUMMARY:JV Football v. Tabernacle
URL;VALUE=URI:https://www.tcswarriors.org/athletics/football/calendar/86854
 64/jv-football-v-tabernacle
DTSTART:20251002T213000Z
DTEND:20251002T230000Z
END:VEVENT
END:VCALENDAR
