BEGIN:VCALENDAR
VERSION:2.0
PRODID:SchoolNow
CALSCALE:GREGORIAN
BEGIN:VEVENT
UID:ccb953d0-5b94-11f0-9758-0e53854047ab
DTSTAMP:20251216T200041Z
SUMMARY:V. Football @ Victory Columbus-depart 3
URL;VALUE=URI:https://www.tcswarriors.org/athletics/football/calendar/83938
 12/v-football-victory-columbus-depart-3
DTSTART:20251025T000000Z
DTEND:20251025T010000Z
END:VEVENT
END:VCALENDAR
