BEGIN:VCALENDAR
VERSION:2.0
PRODID:SchoolNow
CALSCALE:GREGORIAN
BEGIN:VEVENT
UID:a462cfba-3754-11f0-b09c-0eff8b179edb
DTSTAMP:20251216T200041Z
SUMMARY:JV Football vs East Central
URL;VALUE=URI:https://www.tcswarriors.org/athletics/football/calendar/81817
 20/jv-football-vs-east-central
DTSTART:20251013T230000Z
DTEND:20251014T003000Z
END:VEVENT
END:VCALENDAR
