BEGIN:VCALENDAR
VERSION:2.0
PRODID:SchoolNow
CALSCALE:GREGORIAN
BEGIN:VEVENT
UID:a462ced4-3754-11f0-a0b4-0eff8b179edb
DTSTAMP:20251216T200041Z
SUMMARY:JV Football vs Russell
URL;VALUE=URI:https://www.tcswarriors.org/athletics/football/calendar/81817
 19/jv-football-vs-russell
DTSTART:20251006T230000Z
DTEND:20251007T003000Z
END:VEVENT
END:VCALENDAR
