BEGIN:VCALENDAR
VERSION:2.0
PRODID:SchoolNow
CALSCALE:GREGORIAN
BEGIN:VEVENT
UID:a462cd12-3754-11f0-98ce-0eff8b179edb
DTSTAMP:20251216T200041Z
SUMMARY:JV Football @ Tabernacle-depart 1:30
URL;VALUE=URI:https://www.tcswarriors.org/athletics/football/calendar/81817
 17/jv-football-tabernacle-depart-1-30
DTSTART:20250908T203000Z
DTEND:20250908T220000Z
END:VEVENT
END:VCALENDAR
