BEGIN:VCALENDAR
VERSION:2.0
PRODID:SchoolNow
CALSCALE:GREGORIAN
BEGIN:VEVENT
UID:a462cc2c-3754-11f0-a120-0eff8b179edb
DTSTAMP:20251216T200041Z
SUMMARY:JV Football vs Tabernacle
URL;VALUE=URI:https://www.tcswarriors.org/athletics/football/calendar/81817
 16/jv-football-vs-tabernacle
DTSTART:20250922T230000Z
DTEND:20250923T003000Z
END:VEVENT
END:VCALENDAR
