BEGIN:VCALENDAR
VERSION:2.0
PRODID:SchoolNow
CALSCALE:GREGORIAN
BEGIN:VEVENT
UID:a462cb50-3754-11f0-8197-0eff8b179edb
DTSTAMP:20251216T200041Z
SUMMARY:JV Football @ Russell-depart 2:20
URL;VALUE=URI:https://www.tcswarriors.org/athletics/football/calendar/81817
 15/jv-football-russell-depart-2-20
DTSTART:20250902T230000Z
DTEND:20250902T233000Z
END:VEVENT
END:VCALENDAR
