BEGIN:VCALENDAR
VERSION:2.0
PRODID:SchoolNow
CALSCALE:GREGORIAN
BEGIN:VEVENT
UID:a462ca4c-3754-11f0-99d7-0eff8b179edb
DTSTAMP:20251216T200041Z
SUMMARY:V. Football vs *Tabernacle
URL;VALUE=URI:https://www.tcswarriors.org/athletics/football/calendar/81817
 14/v-football-vs-tabernacle
DTSTART:20251003T000000Z
DTEND:20251003T023000Z
END:VEVENT
END:VCALENDAR
