BEGIN:VCALENDAR
VERSION:2.0
PRODID:SchoolNow
CALSCALE:GREGORIAN
BEGIN:VEVENT
UID:a462c93e-3754-11f0-b32a-0eff8b179edb
DTSTAMP:20251216T200041Z
SUMMARY:V. Football @ *Cornerstone-depart 2:30
URL;VALUE=URI:https://www.tcswarriors.org/athletics/football/calendar/81817
 13/v-football-cornerstone-depart-2-30
DTSTART:20250927T000000Z
DTEND:20250927T023000Z
END:VEVENT
END:VCALENDAR
