BEGIN:VCALENDAR
VERSION:2.0
PRODID:SchoolNow
CALSCALE:GREGORIAN
BEGIN:VEVENT
UID:a462c83a-3754-11f0-afcf-0eff8b179edb
DTSTAMP:20251216T200041Z
SUMMARY:V. Football vs *Russell
URL;VALUE=URI:https://www.tcswarriors.org/athletics/football/calendar/81817
 12/v-football-vs-russell
DTSTART:20250920T000000Z
DTEND:20250920T023000Z
END:VEVENT
END:VCALENDAR
