BEGIN:VCALENDAR
VERSION:2.0
PRODID:SchoolNow
CALSCALE:GREGORIAN
BEGIN:VEVENT
UID:a462c718-3754-11f0-a1b7-0eff8b179edb
DTSTAMP:20251216T200041Z
SUMMARY:V. Football vs Columbus Christian
URL;VALUE=URI:https://www.tcswarriors.org/athletics/football/calendar/81817
 11/v-football-vs-columbus-christian
DTSTART:20250906T000000Z
DTEND:20250906T023000Z
END:VEVENT
END:VCALENDAR
