BEGIN:VCALENDAR
VERSION:2.0
PRODID:SchoolNow
CALSCALE:GREGORIAN
BEGIN:VEVENT
UID:a462c588-3754-11f0-a5f6-0eff8b179edb
DTSTAMP:20251216T200041Z
SUMMARY:V. Football @ *Jacksonville-depart 2:30
URL;VALUE=URI:https://www.tcswarriors.org/athletics/football/calendar/81817
 10/v-football-jacksonville-depart-2-30
DTSTART:20250830T000000Z
DTEND:20250830T023000Z
END:VEVENT
END:VCALENDAR
