BEGIN:VCALENDAR
VERSION:2.0
PRODID:SchoolNow
CALSCALE:GREGORIAN
BEGIN:VEVENT
UID:a462a5d0-3754-11f0-8170-0eff8b179edb
DTSTAMP:20251216T200041Z
SUMMARY:V. Football @ East Central-depart 3:30
URL;VALUE=URI:https://www.tcswarriors.org/athletics/football/calendar/81817
 09/v-football-east-central-depart-3-30
DTSTART:20250823T000000Z
DTEND:20250823T023000Z
END:VEVENT
END:VCALENDAR
