BEGIN:VCALENDAR
VERSION:2.0
PRODID:SchoolNow
CALSCALE:GREGORIAN
BEGIN:VEVENT
UID:bad642e4-3589-11f0-8619-0a58a9feac02
DTSTAMP:20251216T200041Z
SUMMARY:V. Football vs Trinity-Homecoming Game
URL;VALUE=URI:https://www.tcswarriors.org/athletics/football/calendar/81683
 96/v-football-vs-trinity-homecoming-game
DTSTART:20251011T000000Z
DTEND:20251011T023000Z
END:VEVENT
END:VCALENDAR
