BEGIN:VCALENDAR
VERSION:2.0
PRODID:SchoolNow
CALSCALE:GREGORIAN
BEGIN:VEVENT
UID:c2822a10-34f0-11f0-9ef4-0affecb14cd9
DTSTAMP:20251216T200041Z
SUMMARY:V Football @ Russell (Playoffs)-departure 2:00
URL;VALUE=URI:https://www.tcswarriors.org/athletics/football/calendar/81641
 26/v-football-russell-playoffs-departure-2-00
DTSTART:20251101T000000Z
DTEND:20251101T030000Z
END:VEVENT
END:VCALENDAR
