BEGIN:VCALENDAR
VERSION:2.0
PRODID:SchoolNow
CALSCALE:GREGORIAN
BEGIN:VEVENT
UID:c2822704-34f0-11f0-b09f-0affecb14cd9
DTSTAMP:20251216T200041Z
SUMMARY:CFA Football Championship
URL;VALUE=URI:https://www.tcswarriors.org/athletics/football/calendar/81641
 25/cfa-football-championship
DTSTART:20251108T010000Z
DTEND:20251108T040000Z
END:VEVENT
END:VCALENDAR
