BEGIN:VCALENDAR
VERSION:2.0
PRODID:SchoolNow
CALSCALE:GREGORIAN
BEGIN:VEVENT
UID:a786972a-a384-11f0-88c3-0a58a9feac02
DTSTAMP:20251216T154653Z
SUMMARY:Fishing Team Meeting
LOCATION:Mrs. Cottingham's Classroom
URL;VALUE=URI:https://www.tcswarriors.org/athletics/fishing/calendar/870265
 8/fishing-team-meeting
DTSTART:20251016T220000Z
DTEND:20251016T223000Z
END:VEVENT
END:VCALENDAR
