BEGIN:VCALENDAR
VERSION:2.0
PRODID:SchoolNow
CALSCALE:GREGORIAN
BEGIN:VEVENT
UID:d95a2b4c-01f6-11f1-8c6f-0a58a9feac02
DTSTAMP:20260420T071010Z
SUMMARY:JVB/VG v Chilton (substate)
URL;VALUE=URI:https://www.tcswarriors.org/athletics/basketball/calendar/884
 9414/jvb-vg-v-chilton-substate
DTSTART:20260209T230000Z
DTEND:20260210T013000Z
END:VEVENT
END:VCALENDAR
