BEGIN:VCALENDAR
VERSION:2.0
PRODID:SchoolNow
CALSCALE:GREGORIAN
BEGIN:VEVENT
UID:f0563230-005e-11f1-a726-0a58a9feac02
DTSTAMP:20260420T010549Z
SUMMARY:JVG Basketball v Eastwood (Substate)
URL;VALUE=URI:https://www.tcswarriors.org/athletics/basketball/calendar/884
 7895/jvg-basketball-v-eastwood-substate
DTSTART:20260205T230000Z
DTEND:20260206T003000Z
END:VEVENT
END:VCALENDAR
