BEGIN:VCALENDAR
VERSION:2.0
PRODID:SchoolNow
CALSCALE:GREGORIAN
BEGIN:VEVENT
UID:9ac6b524-b8dd-11f0-8970-027cb16353bb
DTSTAMP:20260420T071010Z
SUMMARY:Basketball Senior Night
URL;VALUE=URI:https://www.tcswarriors.org/athletics/basketball/calendar/877
 1115/basketball-senior-night
DTSTART:20260203T000000Z
DTEND:20260203T010000Z
END:VEVENT
END:VCALENDAR
