BEGIN:VCALENDAR
VERSION:2.0
PRODID:SchoolNow
CALSCALE:GREGORIAN
BEGIN:VEVENT
UID:beddb93a-aa05-11f0-ba13-0ecc6417d8e9
DTSTAMP:20260420T071010Z
SUMMARY:Basketball(JHB\,VG\,VB) @ Heritage-depart 2:45
URL;VALUE=URI:https://www.tcswarriors.org/athletics/basketball/calendar/872
 5012/basketball-jhb-vg-vb-heritage-depart-2-45
DTSTART:20260105T230000Z
DTEND:20260106T023000Z
END:VEVENT
END:VCALENDAR
