BEGIN:VCALENDAR
VERSION:2.0
PRODID:SchoolNow
CALSCALE:GREGORIAN
BEGIN:VEVENT
UID:beddb85e-aa05-11f0-ae3d-0ecc6417d8e9
DTSTAMP:20260420T071010Z
SUMMARY:Basketball(JHG\,JHB\,VG\,VB) v. *Vic-Columbus
URL;VALUE=URI:https://www.tcswarriors.org/athletics/basketball/calendar/872
 5011/basketball-jhg-jhb-vg-vb-v-vic-columbus
DTSTART:20260202T220000Z
DTEND:20260203T020000Z
END:VEVENT
END:VCALENDAR
