BEGIN:VCALENDAR
VERSION:2.0
PRODID:SchoolNow
CALSCALE:GREGORIAN
BEGIN:VEVENT
UID:beddb5a2-aa05-11f0-ab3b-0ecc6417d8e9
DTSTAMP:20260420T071010Z
SUMMARY:Basketball(JHG\,JHB\,VG\,VB) v *Russell
URL;VALUE=URI:https://www.tcswarriors.org/athletics/basketball/calendar/872
 5008/basketball-jhg-jhb-vg-vb-v-russell
DTSTART:20260127T220000Z
DTEND:20260128T020000Z
END:VEVENT
END:VCALENDAR
