BEGIN:VCALENDAR
VERSION:2.0
PRODID:SchoolNow
CALSCALE:GREGORIAN
BEGIN:VEVENT
UID:beddb4bc-aa05-11f0-b980-0ecc6417d8e9
DTSTAMP:20260422T075010Z
SUMMARY:Basketball(JHB\,VG\,VB) v. Heritage
URL;VALUE=URI:https://www.tcswarriors.org/athletics/basketball/calendar/872
 5007/basketball-jhb-vg-vb-v-heritage
DTSTART:20260122T230000Z
DTEND:20260123T020000Z
END:VEVENT
END:VCALENDAR
