BEGIN:VCALENDAR
VERSION:2.0
PRODID:SchoolNow
CALSCALE:GREGORIAN
BEGIN:VEVENT
UID:beddb2f0-aa05-11f0-9f73-0ecc6417d8e9
DTSTAMP:20260420T071010Z
SUMMARY:Basketball(JHB\,VB) @ Glen Iris-depart 3:10
URL;VALUE=URI:https://www.tcswarriors.org/athletics/basketball/calendar/872
 5005/basketball-jhb-vb-glen-iris-depart-3-10
DTSTART:20260116T230000Z
DTEND:20260117T013000Z
END:VEVENT
END:VCALENDAR
