BEGIN:VCALENDAR
VERSION:2.0
PRODID:SchoolNow
CALSCALE:GREGORIAN
BEGIN:VEVENT
UID:beddb1f6-aa05-11f0-8104-0ecc6417d8e9
DTSTAMP:20260420T071010Z
SUMMARY:Basketball(JHG\,JHB\,VG\,VB) @ *Victory-M'brook-depart 1:00
URL;VALUE=URI:https://www.tcswarriors.org/athletics/basketball/calendar/872
 5004/basketball-jhg-jhb-vg-vb-victory-mbrook-depart-1-00
DTSTART:20260115T220000Z
DTEND:20260116T020000Z
END:VEVENT
END:VCALENDAR
