BEGIN:VCALENDAR
VERSION:2.0
PRODID:SchoolNow
CALSCALE:GREGORIAN
BEGIN:VEVENT
UID:beddb110-aa05-11f0-b950-0ecc6417d8e9
DTSTAMP:20260420T071010Z
SUMMARY:Basketball(JHG\,JHB\,VG\,VB) v Tabernacle
URL;VALUE=URI:https://www.tcswarriors.org/athletics/basketball/calendar/872
 5003/basketball-jhg-jhb-vg-vb-v-tabernacle
DTSTART:20260113T220000Z
DTEND:20260114T020000Z
END:VEVENT
END:VCALENDAR
