BEGIN:VCALENDAR
VERSION:2.0
PRODID:SchoolNow
CALSCALE:GREGORIAN
BEGIN:VEVENT
UID:beddb016-aa05-11f0-a0a7-0ecc6417d8e9
DTSTAMP:20260422T075010Z
SUMMARY:Basketball(JHG\,JHB\,VG\,VB) @ *Eastwood-depart 1:00
URL;VALUE=URI:https://www.tcswarriors.org/athletics/basketball/calendar/872
 5002/basketball-jhg-jhb-vg-vb-eastwood-depart-1-00
DTSTART:20260129T220000Z
DTEND:20260130T020000Z
END:VEVENT
END:VCALENDAR
