BEGIN:VCALENDAR
VERSION:2.0
PRODID:SchoolNow
CALSCALE:GREGORIAN
BEGIN:VEVENT
UID:c28662c4-34f0-11f0-a2e9-0e34a6add69b
DTSTAMP:20260420T010549Z
SUMMARY:Varsity Basketball State Tournament-Oxford
URL;VALUE=URI:https://www.tcswarriors.org/athletics/basketball/calendar/816
 4130/varsity-basketball-state-tournament-oxford
DTSTART;VALUE=DATE:20260219
DTEND;VALUE=DATE:20260222
END:VEVENT
END:VCALENDAR
