BEGIN:VCALENDAR
VERSION:2.0
PRODID:SchoolNow
CALSCALE:GREGORIAN
BEGIN:VEVENT
UID:c286618e-34f0-11f0-8760-0e34a6add69b
DTSTAMP:20260420T071010Z
SUMMARY:JV State Basketball Tournament-Oxford*Departing after 2nd pd
URL;VALUE=URI:https://www.tcswarriors.org/athletics/basketball/calendar/816
 4129/jv-state-basketball-tournament-oxford-departing-after-2nd-pd
DTSTART;VALUE=DATE:20260213
DTEND;VALUE=DATE:20260215
END:VEVENT
END:VCALENDAR
